BEGIN:VCALENDAR
VERSION:2.0
PRODID:-//Formazione Mettiamoci la Voce - ECPv6.15.14//NONSGML v1.0//EN
CALSCALE:GREGORIAN
METHOD:PUBLISH
X-WR-CALNAME:Formazione Mettiamoci la Voce
X-ORIGINAL-URL:https://scuola.mettiamocilavoce.it
X-WR-CALDESC:Eventi per Formazione Mettiamoci la Voce
REFRESH-INTERVAL;VALUE=DURATION:PT1H
X-Robots-Tag:noindex
X-PUBLISHED-TTL:PT1H
BEGIN:VTIMEZONE
TZID:Europe/Rome
BEGIN:DAYLIGHT
TZOFFSETFROM:+0100
TZOFFSETTO:+0200
TZNAME:CEST
DTSTART:20240331T010000
END:DAYLIGHT
BEGIN:STANDARD
TZOFFSETFROM:+0200
TZOFFSETTO:+0100
TZNAME:CET
DTSTART:20241027T010000
END:STANDARD
BEGIN:DAYLIGHT
TZOFFSETFROM:+0100
TZOFFSETTO:+0200
TZNAME:CEST
DTSTART:20250330T010000
END:DAYLIGHT
BEGIN:STANDARD
TZOFFSETFROM:+0200
TZOFFSETTO:+0100
TZNAME:CET
DTSTART:20251026T010000
END:STANDARD
BEGIN:DAYLIGHT
TZOFFSETFROM:+0100
TZOFFSETTO:+0200
TZNAME:CEST
DTSTART:20260329T010000
END:DAYLIGHT
BEGIN:STANDARD
TZOFFSETFROM:+0200
TZOFFSETTO:+0100
TZNAME:CET
DTSTART:20261025T010000
END:STANDARD
END:VTIMEZONE
BEGIN:VEVENT
DTSTART;TZID=Europe/Rome:20251027T183000
DTEND;TZID=Europe/Rome:20251027T193000
DTSTAMP:20260419T144047
CREATED:20250829T124101Z
LAST-MODIFIED:20250829T124101Z
UID:2828-1761589800-1761593400@scuola.mettiamocilavoce.it
SUMMARY:Arte Oratoria - webinar gratuito di presentazione
DESCRIPTION:Webinar gratuito e aperto a tutty di presentazione del workshop di Arte Oratoria del 24 gennaio 2026. \nPer info\, date\, costi e modalità di iscrizione guarda la sezione “Arte Oratoria”. \nOccorrente: \n\nconnessione internet\ncuffiette/auricolari\n\nImportante: il workshop “Regala una Fiaba” si svolgerà in presenza nella nostra sede di Genova.
URL:https://scuola.mettiamocilavoce.it/evento/arte-oratoria-webinar-gratuito-di-presentazione/
CATEGORIES:Gratuito
END:VEVENT
END:VCALENDAR